BEGIN:VCALENDAR
VERSION:2.0
CALSCALE:GREGORIAN
PRODID:-//MyApp//Calendar 1.0//EN
BEGIN:VEVENT
METHOD:PUBLISH
UID:51732@regionalniportaly.cz
DTSTAMP:20260422T115040Z
DTSTART;VALUE=DATE:20250316
DTEND;VALUE=DATE:20250317
SUMMARY:Michal k snídani
DESCRIPTION:Michal\, který je dětem dobře známý z pořadu čs. televize Kouzelná školka\, tentokráte plně rozvíjí hru s barevnými samolepicími páskami. Bez ostychu vytáčí metry a metry pásek\, ze kterých vyrábí jednoduché tvary až po plastické\, imitující reálné předměty\, v tomto případě\, vše dobré\, na co máme chuť!\n 16. 3. 2025 10:00Kde: KD Březnice
LOCATION:Březnice
END:VEVENT
END:VCALENDAR