BEGIN:VCALENDAR
VERSION:2.0
CALSCALE:GREGORIAN
PRODID:-//MyApp//Calendar 1.0//EN
BEGIN:VEVENT
METHOD:PUBLISH
UID:51265@regionalniportaly.cz
DTSTAMP:20260422T200325Z
DTSTART;VALUE=DATE:20250222
DTEND;VALUE=DATE:20250223
SUMMARY:Podnikatelský ples
DESCRIPTION:Již nyní si můžete rezervovat vstupenky na Podnikatelský ples v kanceláři OHK v Příbrami na Zámečku.\nTelefonicky: 318 627 784\,\ne-mailem: ohkpb@ohkpb.cz
LOCATION:Příbram
END:VEVENT
END:VCALENDAR