BEGIN:VCALENDAR
VERSION:2.0
CALSCALE:GREGORIAN
PRODID:-//MyApp//Calendar 1.0//EN
BEGIN:VEVENT
METHOD:PUBLISH
UID:51208@regionalniportaly.cz
DTSTAMP:20260422T183616Z
DTSTART;VALUE=DATE:20250823
DTEND;VALUE=DATE:20250824
SUMMARY:Fest Revival Příbram
DESCRIPTION:Zažijte návrat legend! Příbram se stane dějištěm největší revivalové show tohoto léta. Připravte se na den plný hitů\, které všichni milujeme. Na jednom pódiu ožije 7 revivalových kapel\, které vás přenesou zpět do zlaté éry hudby!Na co se můžete těšit?\nQueen – Symphonic strings Tribute Show\nABBA – Abba cz\nElvis Presley – Vladimír Lichnovský a Honza Roušar\nLucie – Lucie revival\nBeatles – The Bugles\nRed Hot Chili Peppers – PAPRIKACZE-RHCP revival\nWaldemar Matuška – Jaromír Adamec a Waldemar band\nKdy: 23. srpna 2025\nKde: Příbram\, místo konání: Letní kino
LOCATION:Příbram
END:VEVENT
END:VCALENDAR