BEGIN:VCALENDAR
VERSION:2.0
CALSCALE:GREGORIAN
PRODID:-//MyApp//Calendar 1.0//EN
BEGIN:VEVENT
METHOD:PUBLISH
UID:49695@regionalniportaly.cz
DTSTAMP:20260422T215242Z
DTSTART;VALUE=DATE:20250322
DTEND;VALUE=DATE:20250323
SUMMARY:Totální nasazení a Vision Days - TOTAL DAYS TOUR 2025
DESCRIPTION:TOTAL DAYS TOUR 2025&nbsp\;kapel&nbsp\;Totální nasazení&nbsp\;a&nbsp\;Vision Days.Support:&nbsp\;PESHATA / zoo / ska / punk
LOCATION:Milevsko
END:VEVENT
END:VCALENDAR