BEGIN:VCALENDAR
VERSION:2.0
CALSCALE:GREGORIAN
PRODID:-//MyApp//Calendar 1.0//EN
BEGIN:VEVENT
METHOD:PUBLISH
UID:48785@regionalniportaly.cz
DTSTAMP:20260422T222309Z
DTSTART;VALUE=DATE:20250705
DTEND;VALUE=DATE:20250706
SUMMARY:Beerfest Nechvalice 2025
DESCRIPTION:Připravte se na nezapomenutelný zážitek!Beerfest Nechvalice&nbsp\;je zpět a slibuje nejlepší léto roku 2025. Už 5. července se fotbalové hřiště v Nechvalicích promění ve festivalovou oázu plnou skvělé hudby\, piva z minipivovarů a zábavy pro celou rodinu!Hudební lahůdky:&nbsp\;Civilní Obrana\,&nbsp\;Green Day Prague Idiots\,&nbsp\;Fusky Dus\,&nbsp\;Maniac&nbsp\;a&nbsp\;dalsi Ochutnej to nejlepší z českých minipivovarů – jedinečné chutě\, které nikde jinde neochutnáte!Dětský program zajistí\, že i ti nejmenší se nebudou nudit. Nezmeškejte příležitost si užít den plný hudby\, piva a zábavy v Nechvalicích! Vstupenky brzy v prodeji – sledujte naše sociální sítě pro více informací.Těšíme se na vás na Beerfestu Nechvalice 2025!
LOCATION:Nechvalice
END:VEVENT
END:VCALENDAR