BEGIN:VCALENDAR
VERSION:2.0
CALSCALE:GREGORIAN
PRODID:-//MyApp//Calendar 1.0//EN
BEGIN:VEVENT
METHOD:PUBLISH
UID:48280@regionalniportaly.cz
DTSTAMP:20260422T221836Z
DTSTART;VALUE=DATE:20241122
DTEND;VALUE=DATE:20241123
SUMMARY:Jana Rychterová a spol. - koncert
DESCRIPTION:D-klub\, Divadlo A. Dvořáka Příbram\n19 hodin\nPřijďte načerpat svoji dávku radosti v šedivých podzimních dnech. Moderátorka Českého rozhlasu Dvojka se tentokrát představí jako písničkářka s kytarou. Na housle jí doprovodí Peter Mojzeš\, na klavír bude hrát Martin Rufer. Uslyšíte známé songy jako Víno\, Jak čas šel\, Argentinec nebo Strašlivá píseň o heteropaternální superfekundaci. Můžete se zasnít u písničky Vrásky\, Anděl z Atlantidy nebo Aleluja. A když budete hodní\, možná bude i Klimakterická.\n 
LOCATION:Příbram
END:VEVENT
END:VCALENDAR