BEGIN:VCALENDAR
VERSION:2.0
CALSCALE:GREGORIAN
PRODID:-//MyApp//Calendar 1.0//EN
BEGIN:VEVENT
METHOD:PUBLISH
UID:48100@regionalniportaly.cz
DTSTAMP:20260422T234615Z
DTSTART;VALUE=DATE:20241123
DTEND;VALUE=DATE:20241124
SUMMARY:ABH92 +  EL Calafuna
DESCRIPTION:ABH92&nbsp\; (revival sebe sama aneb původní sestava A bude hůř)EL Calafuna (punkfolkový zabiják)Koncert plný punku\, folku a country
LOCATION:Příbram
END:VEVENT
END:VCALENDAR