BEGIN:VCALENDAR
VERSION:2.0
CALSCALE:GREGORIAN
PRODID:-//MyApp//Calendar 1.0//EN
BEGIN:VEVENT
METHOD:PUBLISH
UID:46079@regionalniportaly.cz
DTSTAMP:20260423T013429Z
DTSTART;VALUE=DATE:20241012
DTEND;VALUE=DATE:20241013
SUMMARY:Svatbování - svatební veletrh
DESCRIPTION:V Příbrami se chystá nezapomenutelná událost - PRVNÍ OFICIÁLNĚ NEJVĚTŠÍ SVATEBNÍ VELETRH!12. října se sejdeme\, abychom společně otevřeli novou kapitolu plnou lásky\, inspirace a dokonalých chvil. Přijďte být součástí naší historie a objevte špičkové svatební trendy od těch nejlepších dodavatelů v oboru.Můžete se těšit na bohatý program včetně módní přehlídky\, přednášek&nbsp\;a hudebního vystoupení.Děti do 12. let zdarma
LOCATION:Příbram
END:VEVENT
END:VCALENDAR