BEGIN:VCALENDAR
VERSION:2.0
CALSCALE:GREGORIAN
PRODID:-//MyApp//Calendar 1.0//EN
BEGIN:VEVENT
METHOD:PUBLISH
UID:46070@regionalniportaly.cz
DTSTAMP:20260422T215107Z
DTSTART;VALUE=DATE:20241104
DTEND;VALUE=DATE:20241105
SUMMARY:Muzikálový koncert | Jiří Pek & smyčcový kvintet s klavírem
DESCRIPTION:Jiří Pek se představí jako hlavní zpěvák muzikálového koncertu\, při němž v jeho podání s doprovodem smyčcového kvinteta\, klavíru a příčné flétny&nbsp\;zazní české i zahraniční hity ze slavných a úspěšných muzikálů.BÍDNÍCI\,&nbsp\;Dracula\, JEKYLL &amp\; HYDE\,&nbsp\;Monte Cristo\, ANGELIKA\,&nbsp\;Baron Prášil\, KAT MYDLÁŘ jsou muzikálové tituly\, které nebudou na programu koncertu chybět.JAKO HOST VYSTOUPÍ&nbsp\;muzikálová zpěvačka a herečka&nbsp\;KLÁRA JELÍNKOVÁ&nbsp\;s písněmi z muzikálů&nbsp\;Angelika a Bídníci\,Vše zazpívané s českými texty Zdeňka Borovce\, Adama Nováka\, Fanánka Lou Hagena a Petra Markova.u klavíru hudební skladatel a autor aranží Michal MACOUREKsmyčcový kvintet složený z hráčů předních pražských orchestrůpříčná flétna Ondřej MACOUREK
LOCATION:Příbram
END:VEVENT
END:VCALENDAR