BEGIN:VCALENDAR
VERSION:2.0
CALSCALE:GREGORIAN
PRODID:-//MyApp//Calendar 1.0//EN
BEGIN:VEVENT
METHOD:PUBLISH
UID:45949@regionalniportaly.cz
DTSTAMP:20260422T221915Z
DTSTART;VALUE=DATE:20241203
DTEND;VALUE=DATE:20241204
SUMMARY:Úča musí pryč v Hrádku u Rokycan
DESCRIPTION:Emoce vřou\, v prvním pololetí se známky dětí rapidně zhoršily\, atmosféra ve třídě je špatná\, navíc čekají děti po pololetí přestupové zkoušky na osmiletá gymnázia. Kdo za známky nese zodpovědnost? Samozřejmě učitelka! A proto je nutné ji ihned odvolat. Pět rodičů je pět rozdílných charakterů - zatrpklý nezaměstnaný\, který je neustále za zadkem své dceři\, ambiciózní ranařka\, nerozhodná intelektuálka a manželský pár v krizi\, navíc vykořeněný přestěhováním do místa školy kvůli práci.Učitelka však nedává svoji kůži zadarmo - nastaví rodičům zrcadlo a ukazuje se\, že jejich děti jsou různým způsobem problémové a zdrojem nepokojů ve třídě.Hraji: Igor Chmela\, David Prachař\, Linda Rybová\, Petra Špalková\, Kristýna Frejová\, Jana Janěková ml.
LOCATION:Hrádek
END:VEVENT
END:VCALENDAR