BEGIN:VCALENDAR
VERSION:2.0
CALSCALE:GREGORIAN
PRODID:-//MyApp//Calendar 1.0//EN
BEGIN:VEVENT
METHOD:PUBLISH
UID:45435@regionalniportaly.cz
DTSTAMP:20260422T183718Z
DTSTART;VALUE=DATE:20241109
DTEND;VALUE=DATE:20241110
SUMMARY:Vánoční loupež
DESCRIPTION:
LOCATION:Příbram
END:VEVENT
END:VCALENDAR