BEGIN:VCALENDAR
VERSION:2.0
CALSCALE:GREGORIAN
PRODID:-//MyApp//Calendar 1.0//EN
BEGIN:VEVENT
METHOD:PUBLISH
UID:45433@regionalniportaly.cz
DTSTAMP:20260422T215201Z
DTSTART;VALUE=DATE:20241016
DTEND;VALUE=DATE:20241017
SUMMARY:Richard Müller: 40 let na scéně
DESCRIPTION:
LOCATION:Příbram
END:VEVENT
END:VCALENDAR