BEGIN:VCALENDAR
VERSION:2.0
CALSCALE:GREGORIAN
PRODID:-//MyApp//Calendar 1.0//EN
BEGIN:VEVENT
METHOD:PUBLISH
UID:45427@regionalniportaly.cz
DTSTAMP:20260423T014959Z
DTSTART;VALUE=DATE:20240921
DTEND;VALUE=DATE:20240922
SUMMARY:Rock in Příbram
DESCRIPTION:
LOCATION:Příbram
END:VEVENT
END:VCALENDAR