BEGIN:VCALENDAR
VERSION:2.0
CALSCALE:GREGORIAN
PRODID:-//MyApp//Calendar 1.0//EN
BEGIN:VEVENT
METHOD:PUBLISH
UID:43762@regionalniportaly.cz
DTSTAMP:20260422T163656Z
DTSTART;VALUE=DATE:20240907
DTEND;VALUE=DATE:20240908
SUMMARY:Obstacle race
DESCRIPTION:
LOCATION:Příbram
END:VEVENT
END:VCALENDAR