BEGIN:VCALENDAR
VERSION:2.0
CALSCALE:GREGORIAN
PRODID:-//MyApp//Calendar 1.0//EN
BEGIN:VEVENT
METHOD:PUBLISH
UID:43761@regionalniportaly.cz
DTSTAMP:20260422T183707Z
DTSTART;VALUE=DATE:20240720
DTEND;VALUE=DATE:20240721
SUMMARY:Fesťáczek vol. 1
DESCRIPTION:
LOCATION:Příbram
END:VEVENT
END:VCALENDAR