BEGIN:VCALENDAR
VERSION:2.0
CALSCALE:GREGORIAN
PRODID:-//MyApp//Calendar 1.0//EN
BEGIN:VEVENT
METHOD:PUBLISH
UID:43758@regionalniportaly.cz
DTSTAMP:20260422T234745Z
DTSTART;VALUE=DATE:20240727
DTEND;VALUE=DATE:20240728
SUMMARY:Mirai Summer
DESCRIPTION:
LOCATION:Příbram
END:VEVENT
END:VCALENDAR