BEGIN:VCALENDAR
VERSION:2.0
CALSCALE:GREGORIAN
PRODID:-//MyApp//Calendar 1.0//EN
BEGIN:VEVENT
METHOD:PUBLISH
UID:43757@regionalniportaly.cz
DTSTAMP:20260422T215057Z
DTSTART;VALUE=DATE:20240913
DTEND;VALUE=DATE:20240914
SUMMARY:8x Divokej Bill
DESCRIPTION:
LOCATION:Příbram
END:VEVENT
END:VCALENDAR