BEGIN:VCALENDAR
VERSION:2.0
CALSCALE:GREGORIAN
PRODID:-//MyApp//Calendar 1.0//EN
BEGIN:VEVENT
METHOD:PUBLISH
UID:43319@regionalniportaly.cz
DTSTAMP:20260422T163535Z
DTSTART;VALUE=DATE:20240629
DTEND;VALUE=DATE:20240630
SUMMARY:Muzika 2024
DESCRIPTION:Jeden z největších multižanrových festivalů v západočeském kraji.Přijeďte si poslechnout skvělou muziku do unikátního prostředí přírodního divadla v Hrádku u Rokycan. Moderuje Míša Leicht.Zajištěn bude osvěžující cattering\, skvělé jídlo\, pivo\, víno\, káva.Po skončení hlavního programu již tradičně započne country bál se skupinou MHS\, budete si moci zatančit\, zazpívat\, zajamovat ....Moc se na Vás těšíme!
LOCATION:Hrádek
END:VEVENT
END:VCALENDAR