BEGIN:VCALENDAR
VERSION:2.0
CALSCALE:GREGORIAN
PRODID:-//MyApp//Calendar 1.0//EN
BEGIN:VEVENT
METHOD:PUBLISH
UID:42542@regionalniportaly.cz
DTSTAMP:20260422T215252Z
DTSTART;VALUE=DATE:20241103
DTEND;VALUE=DATE:20241104
SUMMARY:Na Vánoce budu gay
DESCRIPTION:Pikantní komedie o nelehkém životě zadaných heterosexuálních mužů plná groteskních scén \, které vyústí ve velmi překvapivý a nečekaný závěr. Jak získat prosperující řetězec pizzerií a zajistit si skvělou budoucnost!? Stačí tak málo - stát se na Vánoce gayem...Účinkují:&nbsp\;&nbsp\; Martin Zounar\, Martina Randová\, Michaela Dittrichová\, Filip Blažek\, Martin Pošta nebo Zdeněk MaryškaAutor:&nbsp\;&nbsp\; Pino AmmendolaRežie:&nbsp\;&nbsp\; Antonín ProcházkaDivadlo Metro
LOCATION:Hrádek
END:VEVENT
END:VCALENDAR