BEGIN:VCALENDAR
VERSION:2.0
CALSCALE:GREGORIAN
PRODID:-//MyApp//Calendar 1.0//EN
BEGIN:VEVENT
METHOD:PUBLISH
UID:41819@regionalniportaly.cz
DTSTAMP:20260422T234718Z
DTSTART;VALUE=DATE:20240926
DTEND;VALUE=DATE:20240927
SUMMARY:Když kočky nejsou doma v Hrádku u Rokycan
DESCRIPTION:Vynikající anglická komedie o tom\, co všechno se může stát\, když dvě sestry nenadále odjedou na společnou dovolenou a jejich muži zůstanou v Londýně bez dozoru. Pokus o celkem nevinný zálet se dvěma švagrům změní v nečekané dobrodružství plné napětí\, humoru a překvapivých zvratů ohrožujících celou jejich další existenci. Příběh dvou sester\, které si vzaly ty nepravé muže přijíždí k Vám do Hrádku!Hrají: Lukáš Vaculík\, Roman Štolpa\, Hana Sršňová\, Jana Galinová\, Jaroslava Zimová\, Lenka Lavičková / Lucie Randáková
LOCATION:Hrádek
END:VEVENT
END:VCALENDAR