BEGIN:VCALENDAR
VERSION:2.0
CALSCALE:GREGORIAN
PRODID:-//MyApp//Calendar 1.0//EN
BEGIN:VEVENT
METHOD:PUBLISH
UID:41333@regionalniportaly.cz
DTSTAMP:20260422T164535Z
DTSTART;VALUE=DATE:20240530
DTEND;VALUE=DATE:20240531
SUMMARY:Wiener Klavier Quartett & Petr Popelka (Rakousko/ ČR)
DESCRIPTION:
LOCATION:Příbram
END:VEVENT
END:VCALENDAR