BEGIN:VCALENDAR
VERSION:2.0
CALSCALE:GREGORIAN
PRODID:-//MyApp//Calendar 1.0//EN
BEGIN:VEVENT
METHOD:PUBLISH
UID:41326@regionalniportaly.cz
DTSTAMP:20260422T150919Z
DTSTART;VALUE=DATE:20240516
DTEND;VALUE=DATE:20240517
SUMMARY:Dvořákovo klavírní kvarteto
DESCRIPTION:
LOCATION:Příbram
END:VEVENT
END:VCALENDAR