BEGIN:VCALENDAR
VERSION:2.0
CALSCALE:GREGORIAN
PRODID:-//MyApp//Calendar 1.0//EN
BEGIN:VEVENT
METHOD:PUBLISH
UID:41324@regionalniportaly.cz
DTSTAMP:20260422T145439Z
DTSTART;VALUE=DATE:20240514
DTEND;VALUE=DATE:20240515
SUMMARY:Alinde Quintet
DESCRIPTION:
LOCATION:Příbram
END:VEVENT
END:VCALENDAR