BEGIN:VCALENDAR
VERSION:2.0
CALSCALE:GREGORIAN
PRODID:-//MyApp//Calendar 1.0//EN
BEGIN:VEVENT
METHOD:PUBLISH
UID:41318@regionalniportaly.cz
DTSTAMP:20260422T145510Z
DTSTART;VALUE=DATE:20240501
DTEND;VALUE=DATE:20240502
SUMMARY:Kristina Fialová – Benefiční koncert pro vilu Rusalku
DESCRIPTION:
LOCATION:Příbram
END:VEVENT
END:VCALENDAR