BEGIN:VCALENDAR
VERSION:2.0
CALSCALE:GREGORIAN
PRODID:-//MyApp//Calendar 1.0//EN
BEGIN:VEVENT
METHOD:PUBLISH
UID:41317@regionalniportaly.cz
DTSTAMP:20260422T145409Z
DTSTART;VALUE=DATE:20240425
DTEND;VALUE=DATE:20240426
SUMMARY:Česká Sinfonietta - Slavnostní zahájení 55. ročníku HF A. Dvořáka
DESCRIPTION:
LOCATION:Příbram
END:VEVENT
END:VCALENDAR