BEGIN:VCALENDAR
VERSION:2.0
CALSCALE:GREGORIAN
PRODID:-//MyApp//Calendar 1.0//EN
BEGIN:VEVENT
METHOD:PUBLISH
UID:41316@regionalniportaly.cz
DTSTAMP:20260422T133541Z
DTSTART;VALUE=DATE:20240604
DTEND;VALUE=DATE:20240605
SUMMARY:Josef Špaček a Miroslav Sekera - Závěrečný koncert 55. ročníku hudebního festival Antonína Dvořáka
DESCRIPTION:
LOCATION:Příbram
END:VEVENT
END:VCALENDAR