BEGIN:VCALENDAR
VERSION:2.0
CALSCALE:GREGORIAN
PRODID:-//MyApp//Calendar 1.0//EN
BEGIN:VEVENT
METHOD:PUBLISH
UID:41315@regionalniportaly.cz
DTSTAMP:20260422T183536Z
DTSTART;VALUE=DATE:20240601
DTEND;VALUE=DATE:20240602
SUMMARY:Letem Smetanovým světem
DESCRIPTION:
LOCATION:Příbram
END:VEVENT
END:VCALENDAR