BEGIN:VCALENDAR
VERSION:2.0
CALSCALE:GREGORIAN
PRODID:-//MyApp//Calendar 1.0//EN
BEGIN:VEVENT
METHOD:PUBLISH
UID:41314@regionalniportaly.cz
DTSTAMP:20260422T163613Z
DTSTART;VALUE=DATE:20240521
DTEND;VALUE=DATE:20240522
SUMMARY:Drážďanský filharmonický sbor
DESCRIPTION:
LOCATION:Příbram
END:VEVENT
END:VCALENDAR