BEGIN:VCALENDAR
VERSION:2.0
CALSCALE:GREGORIAN
PRODID:-//MyApp//Calendar 1.0//EN
BEGIN:VEVENT
METHOD:PUBLISH
UID:41295@regionalniportaly.cz
DTSTAMP:20260422T164617Z
DTSTART;VALUE=DATE:20240802
DTEND;VALUE=DATE:20240803
SUMMARY:Ewa Farna | Letní kino Příbram
DESCRIPTION:Pozor - akce se koná za každého počasí!Absolutní slavice a Zlatá slavice roku 2023 vystoupí v Příbrami!&nbsp\;Tento&nbsp\;jedinečný&nbsp\;koncert&nbsp\;si budete moci vychutnat v nezapomenutelné atmosféře prostor&nbsp\;příbramského letního kina&nbsp\;při západu slunce.Letošní Český slavík byl triumfem Ewy Farne. Vyhrála v kategorii Zpěvačka a stala se také Absolutním slavíkem\, lépe řečeno slavicí\, s největším počtem poslaných hlasů. Když k tomu připočteme nadšené ohlasy na vyprodaný koncert v O2 areně\, kde oslavila své třicetiny\, můžeme prohlásit\, že zpěvačka se nachází na vrcholu kariéry.Pozor&nbsp\;omezená kapacita! V případě prodání&nbsp\;vstupenek v předprodeji pak na místě již&nbsp\;žadné nebudou!&nbsp\;&nbsp\;PŘEDPRODEJ VSTUPENEK1. vlna - 890\,- Kč (Vyprodáno)2. vlna - 990\,- Kč&nbsp\;3.&nbsp\;vlna - 1090\,- Kč&nbsp\;
LOCATION:Příbram
END:VEVENT
END:VCALENDAR