BEGIN:VCALENDAR
VERSION:2.0
CALSCALE:GREGORIAN
PRODID:-//MyApp//Calendar 1.0//EN
BEGIN:VEVENT
METHOD:PUBLISH
UID:40921@regionalniportaly.cz
DTSTAMP:20260422T133717Z
DTSTART;VALUE=DATE:20240402
DTEND;VALUE=DATE:20240403
SUMMARY:IZRAEL - cestování\, památky\, historie\, gastronomie
DESCRIPTION:Co:IZRAELpřednáška o cestování - památkách – historii – gastronomiiKdo:Mgr. Karel HRDLIČKApřednášející\, učitel hebrejštiny\, průvodce a spolumajitel cestovní kanceláře CK HrdličkaVstupné:Studenti a senioři: 50\,- KčDospělí: 100\,- Kč
LOCATION:Příbram
END:VEVENT
END:VCALENDAR