BEGIN:VCALENDAR
VERSION:2.0
CALSCALE:GREGORIAN
PRODID:-//MyApp//Calendar 1.0//EN
BEGIN:VEVENT
METHOD:PUBLISH
UID:38647@regionalniportaly.cz
DTSTAMP:20260422T202819Z
DTSTART;VALUE=DATE:20241111
DTEND;VALUE=DATE:20241112
SUMMARY:Kafe u OSMANYHO | Příbram
DESCRIPTION:Zábavný pořad plný neuvěřitelných historek v podání Osmanyho Laffity míří do Neratovic!Originální pořad s populární osobností módního světa.Devadesát minut neuvěřitelných historek ze života Osmanyho Laffity\, při kterých se divák baví od první chvíle. Osmany odhalí i to\, co mělo zůstat utajeno! A bez cenzury!Moderuje Eva Decastelo\, hudební host Bára Mottlová.
LOCATION:Příbram
END:VEVENT
END:VCALENDAR