BEGIN:VCALENDAR
VERSION:2.0
CALSCALE:GREGORIAN
PRODID:-//MyApp//Calendar 1.0//EN
BEGIN:VEVENT
METHOD:PUBLISH
UID:37554@regionalniportaly.cz
DTSTAMP:20260422T181708Z
DTSTART;VALUE=DATE:20240216
DTEND;VALUE=DATE:20240217
SUMMARY:Alena Antalová & Alex Anders - Velký návrat šansonu!
DESCRIPTION:Srdečně vás zveme na recitál autorských šansonů Alexe Anderse v interpretaci Aleny Antalové a Alexe Anderse za jeho klavírního doprovodu.Velký návrat šansonu ! Přijďte si užít krásný večer bez shonu a stresu.Nejen milovníci šansonu\, ale i příznivci opravdové a upřímné muziky si přijdou na své v pátek 16.2.2024\, kdy vás za srdce chytnou herečka a zpěvačka Alena Antalová a skladatel\, textař\, zpěvák a pianista Alex Anders.Koncert se bude konat v Divadle A. Dvořáka Příbram\, Malá scéna\,Legionářů 400\, Příbram.Šansonový recitál bude plný krásných písní o životě. Nebude chybět ani pěkné a veselé povídání.Těšíme se na Vás!&nbsp\;
LOCATION:Příbram
END:VEVENT
END:VCALENDAR