BEGIN:VCALENDAR
VERSION:2.0
CALSCALE:GREGORIAN
PRODID:-//MyApp//Calendar 1.0//EN
BEGIN:VEVENT
METHOD:PUBLISH
UID:35644@regionalniportaly.cz
DTSTAMP:20260422T133655Z
DTSTART;VALUE=DATE:20231110
DTEND;VALUE=DATE:20231111
SUMMARY:Talkshow Zuzany Bubílkové a Miroslava Šimůnka
DESCRIPTION:Talkshow Zuzany Bubílkové a Miroslava Šimůnka se speciálním hostem Milanem Pitkinem. Vyprávění ze soukromého i profesního života protagonistů\, glosy na aktuální témata současného dění a mnoho dalšího.&nbsp\;
LOCATION:Hrádek
END:VEVENT
END:VCALENDAR